BEGIN:VCALENDAR
VERSION:2.0
PRODID:-//IP.Board Calendar 4.5.4.2//EN
METHOD:PUBLISH
CALSCALE:GREGORIAN
X-WR-CALNAME:Agenda
BEGIN:VTIMEZONE
TZID:Europe/London
TZURL:http://tzurl.org/zoneinfo/Europe/London
X-LIC-LOCATION:Europe/London
BEGIN:DAYLIGHT
TZOFFSETFROM:+0000
TZOFFSETTO:+0100
TZNAME:BST
DTSTART:20150329T020000Z
RRULE:FREQ=YEARLY;BYMONTH=3;BYDAY=-1SU
END:DAYLIGHT
BEGIN:STANDARD
TZOFFSETFROM:+0100
TZOFFSETTO:+0000
TZNAME:GMT
DTSTART:20151025T020000Z
RRULE:FREQ=YEARLY;BYMONTH=10;BYDAY=-1SU
END:STANDARD
END:VTIMEZONE
BEGIN:VEVENT
SUMMARY:6ème Najar Smackdown.
DTSTAMP:20150213T175631Z
SEQUENCE:1
UID:69-1-d049bb28daf7ab95b4acd227e352099b@www.france-helico.com
ORGANIZER;CN="najar80":NE_PAS_REPONDRE@france-helico.com
DESCRIPTION:\nBonjour à tous\nNous vous attendons sur notre terrain à 
	Vignacourt (80) pour le 6ème Najar Smackdown.\nLe 5 et 6 Septembre 2015.\
	nVous êtes tous les bienvenues\, expert comme débutant\, maquette ou 3D\
	, Electrique\, thermique\, quadri\, etc...\nLe but étant de passer un bon
	 weekend entre hélicoptéristes.\nPlus d'infos à venir. \n
DTSTART;VALUE=DATE:20150905
RRULE:FREQ=yearly;INTERVAL=1;UNTIL=20150906T00000Z
END:VEVENT
END:VCALENDAR
