BEGIN:VCALENDAR
VERSION:2.0
PRODID:-//IP.Board Calendar 4.5.4.2//EN
METHOD:PUBLISH
CALSCALE:GREGORIAN
X-WR-CALNAME:Agenda
BEGIN:VTIMEZONE
TZID:Europe/London
TZURL:http://tzurl.org/zoneinfo/Europe/London
X-LIC-LOCATION:Europe/London
BEGIN:DAYLIGHT
TZOFFSETFROM:+0000
TZOFFSETTO:+0100
TZNAME:BST
DTSTART:20140330T020000Z
RRULE:FREQ=YEARLY;BYMONTH=3;BYDAY=-1SU
END:DAYLIGHT
BEGIN:STANDARD
TZOFFSETFROM:+0100
TZOFFSETTO:+0000
TZNAME:GMT
DTSTART:20141026T020000Z
RRULE:FREQ=YEARLY;BYMONTH=10;BYDAY=-1SU
END:STANDARD
END:VTIMEZONE
BEGIN:VEVENT
SUMMARY:Najar Smackdown 2014
DTSTAMP:20140214T205023Z
SEQUENCE:1
UID:20-1-d049bb28daf7ab95b4acd227e352099b@www.france-helico.com
ORGANIZER;CN="peri80":NE_PAS_REPONDRE@france-helico.com
DESCRIPTION:\nBonjour à tous\nNous vous attendons sur notre terrain à 
	Vignacourt (80) pour le 5ème Najar Smackdown\nVous êtes tous les bienven
	ues\, expert comme débutant\, maquette ou 3D\, Electrique\, thermique\, q
	uadri\, etc...\nLe but étant de passer un bon weekend entre hélicoptéri
	stes.\nPour ce weekend voici le déroulement :\nSamedi :\n- Petit déjeune
	r offert\n- Flight\n- Apéritif\, repas tiré du sac (barbecue à disposit
	ion)\n- Flight\n- Apéritif\, repas payant à réserver bientôt\n- Night 
	flight\nDimanche:\n- Petit déjeuner offert\n- Flight\n- Apéritif\, repas
	 tiré du sac ou pizza (je vous confirmerai ceci au plus tôt)\n- Flight\n
	- Finish\n
DTSTART;VALUE=DATE:20140517
DTEND;VALUE=DATE:20140519
END:VEVENT
END:VCALENDAR
